Workbook
Name AUVMultiple: Var!$C$9
Name AUVsIn: Var!$C$8
Name CountryList: Var!$B$132:$B$378
Name CountryName: 'MX#10,11'!$C$10
Name CountryTable: Var!$B$132:$C$378
Name InvestigationNumber: Var!$C$4
Name InvestigationPhase: Var!$C$5
Name InvestigationTitle: Var!$C$3
Name IsoCountryCode: 'MX#10,11'!$C$11
Name Name_Counsel: '#1,2,3'!$B$15
Name Name_InterestedParty: '#1,2,3'!$B$18
Name QuantitiesIn: Var!$C$7
Name ValuesIn: Var!$C$6
Name YearForCollection: Var!$C$10

Sheet Var
B3: Investigation title | C3: Standard Steel Welded Wire Mesh from Mexico
B4: Investigation number(s) | C4: 701-TA-653 and 731-TA-1527
B5: Investigation phase | C5: Review | J5: US producer
B6: Values in | C6: dollars | J6: US importer
B7: Quantities in | C7: short tons | J7: Foreign producer or exporter
B8: AUVs in | C8: dollars per short ton
B9: AUV multiple | C9: 1 | D9: Note: Must have a non zero number to have AUVs calculate on data tabs
B10: Year for data collection | C10: 2025
J11: No
B12: INTERNAL USITC INSTRUCTIONS | J12: Yes
B13: (1) input the relevant variable on this tab (lines 3 through 10)
B14: (2) create Imports / foreign industry tab for each subject country:
B15: Change the drop down for at the top of the page to the relevant subject country (line 10) | J15: Public (non-confidential) version
B16: Update the tab name to the 2-digit ISO country code for the country, e.g., BR = Brazil (line 11 should give you the relevant code) | J16: Confidential version: Contains business proprietary information
B17: Create copies of the importers tab and repeat, as needed
B18: (3) Individually lock all tabs from editing using password: eNOIfun
B19: Save password for case somewhere for reference
B20: (4) Hide this tab (Var) so it is not visible to parties, (do so via visual basic editor, selecting "xlSheetVeryHidden") so you cannot right click to unhide the tab
B55: (5) Save as standard file name (EDIS Inv. #_short product name-NOI_worksheet) (701-559_OSBM-NOI_worksheet)
B132: Afghanistan | C132: AF
B133: Åland Islands | C133: AX
B134: Albania | C134: AL
B135: Algeria | C135: DZ
B136: American Samoa | C136: AS
B137: Andorra | C137: AD
B138: Angola | C138: AO
B139: Anguilla | C139: AI
B140: Antarctica | C140: AQ
B141: Antigua and Barbuda | C141: AG
B142: Argentina | C142: AR
B143: Armenia | C143: AM
... B378: Zimbabwe | C378: ZW

Sheet Instruction
A1: START
A3: Instructions on using this worksheet in developing a response to a Commission Notice of Institution relating to:
A4: =InvestigationTitle&"; Inv No(s).: "&InvestigationNumber&" ("&InvestigationPhase&")" -> Standard Steel Welded Wire Mesh from Mexico; Inv No(s).: 701-TA-653 and 731-TA-1527 (Review)
A5: Instructions
A6: ="Data submitted by "&Name_Counsel&"; on behalf of interested party: "&Name_InterestedParty -> Data submitted by ; on behalf of interested party: | C6: *Interested party information will populate once inputted by your firm in “#1,2,3” tab
A9: Pursuant to the Tariff Act of 1930, interested parties are requested to respond to the notice of institution by submitting the information specified in that notice.
A11: The submission of responses to the notice of institution in Excel format allows the Commission to electronically extract data and thus, compile, assess, and analyze submitted data more efficiently and promptly.
A13: This Excel worksheet covers all items mentioned in the Commission’s notice of institution EXCEPT for items 4 and 12. Your responses to required items 4 and 12 and any additional information/documentation you deem necessary for your response will need to be drafted outside of this worksheet. A PDF of this Excel worksheet together with your responses to required items 4 and 12 and any additional information should be compiled and submitted as one EDIS filing.
A15: Each tab corresponds to items as labeled/numbered in the section of the notice entitled “Information To Be Provided In Response To This Notice Of Institution”.
A17: ***For your response to be considered, it must be filed on EDIS.***
A19: Complete additional worksheet(s) if more than ten firms are part of your response.
A21: Multiple firms also have the option to file one consolidated response to the Notice of Institution on behalf of an ad hoc coalition (as firm 1 in tab #1,2,3).
A23: STEP 1: COMPLETE THE WORKSHEET
A25: Please work through and ensure the data inputs do not contain any data entry errors, and that derivative calculations provided in the worksheet appear reasonable. If a "Data Flag" is tripped (and an error message displayed), please revise and correct that data prior to submission to the Commission as appropriate.
A27: Leave blank any fields that are not applicable to your firm.
A29: Do NOT attempt to modify the format or permissions of this worksheet.
A31: Do NOT attempt to delete any rows or tabs from this worksheet.
... A72: END

Sheet #1,2,3
A1: START | B1: START | C1: END
A2: Confidential version: Contains business proprietary information | C2: END | D2: *Select appropriate header (i.e., BPI or Public) from the drop down menu.
A3: =IF(LEFT(A2,6)="Public",_xlfn.CONCAT("Parties should redact business proprietary information"),_xlfn.CONCAT("Parties should designate business proprietary information on this tab using brackets (",CHAR(34),"[",CHAR(34)," and ",CHAR(34),"]",CHAR(34), ") placed around such information")) -> Parties should designate business proprietary information on this tab using brackets ("[" and "]") placed around such information | C3: END
C4: END
A5: Interested party identification in response to a Commission Notice of Institution relating to: | C5: END
A6: =InvestigationTitle&"; Inv No(s).: "&InvestigationNumber&" ("&InvestigationPhase&")" -> Standard Steel Welded Wire Mesh from Mexico; Inv No(s).: 701-TA-653 and 731-TA-1527 (Review) | C6: END
A7: Interested party(ies) | C7: END
A8: ="Data submitted by "&Name_Counsel&"; on behalf of interested party: "&Name_InterestedParty -> Data submitted by ; on behalf of interested party: | C8: END | D8: *Interested party information will populate once inputted by your firm in this tab.
C9: END
C10: END
C11: END
C12: END
C13: END
C14: END
A15: Name of law firm(s) | C15: END | E15: Yes
A16: Name of counsel (lead attorney(s)) | C16: END | E16: No
A17: Counsel email(s) (lead attorney(s)) | C17: END | E17: Mixed
A18: Filed on behalf of (interested party short name): | C18: END
C19: END
C20: END
C21: END
C22: END
C23: END
C24: END
C25: END
C26: END
C27: END
C28: END
C29: END
C30: END
... C37: END
A38: Identifying information for interested party / firm: | C38: END
A39: Firm 1: Name of interested party | C39: END
A40: Firm 1: Street Address | C40: END | D40: =IF(AND(LEN(B39)>0,LEN(B40)=0),"This is a required field","")
A41: Firm 1: City | C41: END | D41: =IF(AND(LEN(B39)>0,LEN(B41)=0),"This is a required field","")
A42: Firm 1: State | C42: END | D42: =IF(AND(LEN(B39)>0,LEN(B42)=0),"This is a required field","")
A43: Firm 1: Zip | C43: END | D43: =IF(AND(LEN(B39)>0,LEN(B43)=0),"This is a required field","")
A44: Firm 1: Country | C44: END | D44: =IF(AND(LEN(B39)>0,LEN(B44)=0),"This is a required field","")
A45: Firm 1: Website | C45: END | D45: =IF(AND(LEN(B39)>0,LEN(B45)=0),"This is a required field","")
A46: Firm 1: Certifying official name | C46: END | D46: =IF(AND(LEN(B39)>0,LEN(B46)=0),"This is a required field","")
...

Sheet #5,6
A1: START | B1: START
A2: Confidential version: Contains business proprietary information | G2: *Select appropriate header (i.e., BPI or Public) from the drop down menu.
A3: =IF(LEFT(A2,6)="Public",_xlfn.CONCAT("Parties should redact business proprietary information"),_xlfn.CONCAT("Parties should designate business proprietary information on this tab using brackets (",CHAR(34),"[",CHAR(34)," and ",CHAR(34),"]",CHAR(34), ") placed around such information")) -> Parties should designate business proprietary information on this tab using brackets ("[" and "]") placed around such information
A5: Interested party identification in response to a Commission Notice of Institution relating to:
A6: =InvestigationTitle&"; Inv No(s).: "&InvestigationNumber&" ("&InvestigationPhase&")" -> Standard Steel Welded Wire Mesh from Mexico; Inv No(s).: 701-TA-653 and 731-TA-1527 (Review)
A7: List of known U.S. producers, U.S. Importers, and Foreign Producers/Exporters
A8: ="Data submitted by "&Name_Counsel&"; on behalf of interested party: "&Name_InterestedParty -> Data submitted by ; on behalf of interested party: | G8: *Interested party information will populate once inputted by your firm in “#1,2,3” tab
A10: Indicate the number of known U.S. producers of the Domestic Like Product, U.S. importers of the Subject Merchandise, and Foreign Producers/Exporters of the Subject Merchandise in the Subject Country/Countries.
A11: Number of U.S. producers | G11: =IF(LEN(E11)=0,"A response to this field is required","") -> A response to this field is required
A12: Number of U.S. importers | G12: =IF(LEN(E12)=0,"A response to this field is required","") -> A response to this field is required
A13: Number of foreign producers/exporters | G13: =IF(LEN(E13)=0,"A response to this field is required","") -> A response to this field is required
A15: List all known firms reported above (including your firm)
A16: Company type (see drop down) | B16: Company name | C16: Country | D16: Contact email address, if available | E16: OPTIONAL: Other known contact information (e.g., phone, website, address) | F16: END | G16: *dropdown list available in column A. copy and drag feature available
F17: END
F18: END
F19: END
F20: END
F21: END
F22: END
F23: END
F24: END
F25: END
F26: END
F27: END
F28: END
... F1015: END
A1016: END | B1016: END | C1016: END | D1016: END | E1016: END | F1016: END

Sheet #7,8,13
A1: START | B1: START | C1: END
A2: Confidential version: Contains business proprietary information | C2: END | D2: *Select appropriate header (i.e., BPI or Public) from the drop down menu.
A3: =IF(LEFT(A2,6)="Public",_xlfn.CONCAT("Parties should redact business proprietary information"),_xlfn.CONCAT("Parties should designate business proprietary information on this tab using brackets (",CHAR(34),"[",CHAR(34)," and ",CHAR(34),"]",CHAR(34), ") placed around such information")) -> Parties should designate business proprietary information on this tab using brackets ("[" and "]") placed around such information | C3: END
C4: END
A5: Additional information in response to a Commission Notice of Institution relating to: | C5: END
A6: =InvestigationTitle&"; Inv No(s).: "&InvestigationNumber&" ("&InvestigationPhase&")" -> Standard Steel Welded Wire Mesh from Mexico; Inv No(s).: 701-TA-653 and 731-TA-1527 (Review) | C6: END
A7: Purchasers, Sources of Pricing, and Certifications (including related parties) | C7: END | J7: No
A8: ="Data submitted by "&Name_Counsel&"; on behalf of interested party: "&Name_InterestedParty -> Data submitted by ; on behalf of interested party: | C8: END | J8: Yes--In this worksheet
C9: END | J9: Yes--In some other attachment
C10: END
A11: List 3-5 leading purchasers in the U.S. market for the Domestic Like Product and the Subject Merchandise: | C11: END
A12: Purchaser 1: Firm name | C12: END
A13: Purchaser 1: Contact name | C13: END | D13: =IF(AND(LEN(B12)>0,LEN(B13)=0),"This is a required field","")
A14: Purchaser 1: Contact email | C14: END | D14: =IF(AND(LEN(B12)>0,LEN(B14)=0),"This is a required field","")
A15: Purchaser 1: Contact phone number | C15: END | D15: =IF(AND(LEN(B12)>0,LEN(B15)=0),"This is a required field","")
A16: Purchaser 1: Street address | C16: END | D16: =IF(AND(LEN(B12)>0,LEN(B16)=0),"This is a required field","")
A17: Purchaser 1: Firm website | C17: END | D17: =IF(AND(LEN(B12)>0,LEN(B17)=0),"This is a required field","")
C18: END
A19: Purchaser 2: Firm name | C19: END
A20: Purchaser 2: Contact name | C20: END | D20: =IF(AND(LEN(B19)>0,LEN(B20)=0),"This is a required field","")
A21: Purchaser 2: Contact email | C21: END | D21: =IF(AND(LEN(B19)>0,LEN(B21)=0),"This is a required field","")
A22: Purchaser 2: Contact phone number | C22: END | D22: =IF(AND(LEN(B19)>0,LEN(B22)=0),"This is a required field","")
A23: Purchaser 2: Street address | C23: END | D23: =IF(AND(LEN(B19)>0,LEN(B23)=0),"This is a required field","")
A24: Purchaser 2: Firm website | C24: END | D24: =IF(AND(LEN(B19)>0,LEN(B24)=0),"This is a required field","")
C25: END
A26: Purchaser 3: Firm name | C26: END
A27: Purchaser 3: Contact name | C27: END | D27: =IF(AND(LEN(B26)>0,LEN(B27)=0),"This is a required field","")
A28: Purchaser 3: Contact email | C28: END | D28: =IF(AND(LEN(B26)>0,LEN(B28)=0),"This is a required field","")
A29: Purchaser 3: Contact phone number | C29: END | D29: =IF(AND(LEN(B26)>0,LEN(B29)=0),"This is a required field","")
A30: Purchaser 3: Street address | C30: END | D30: =IF(AND(LEN(B26)>0,LEN(B30)=0),"This is a required field","")
A31: Purchaser 3: Firm website | C31: END | D31: =IF(AND(LEN(B26)>0,LEN(B31)=0),"This is a required field","")
C32: END
A33: Purchaser 4: Firm name | C33: END
A34: Purchaser 4: Contact name | C34: END | D34: =IF(AND(LEN(B33)>0,LEN(B34)=0),"This is a required field","")
A35: Purchaser 4: Contact email | C35: END | D35: =IF(AND(LEN(B33)>0,LEN(B35)=0),"This is a required field","")
A36: Purchaser 4: Contact phone number | C36: END | D36: =IF(AND(LEN(B33)>0,LEN(B36)=0),"This is a required field","")
A37: Purchaser 4: Street address | C37: END | D37: =IF(AND(LEN(B33)>0,LEN(B37)=0),"This is a required field","")
A38: Purchaser 4: Firm website | C38: END | D38: =IF(AND(LEN(B33)>0,LEN(B38)=0),"This is a required field","")
C39: END
A40: Purchaser 5: Firm name | C40: END
...

Sheet US#9
A1: START | B1: START | C1: START | D1: START | E1: START | F1: START | G1: START | H1: START | I1: START | J1: START | K1: START | L1: START | M1: START | N1: START | O1: END
B2: U.S. producers' data for a response to a Commission Notice of Institution relating to: | O2: END
B3: =InvestigationTitle&"; Inv No(s).: "&InvestigationNumber&" ("&InvestigationPhase&")" -> Standard Steel Welded Wire Mesh from Mexico; Inv No(s).: 701-TA-653 and 731-TA-1527 (Review) | O3: END
B4: U.S. producers | O4: END
B5: ="Data submitted by "&Name_Counsel&"; on behalf of interested party: "&Name_InterestedParty -> Data submitted by ; on behalf of interested party: | O5: END
O6: END
E7: Confidential version: Contains business proprietary information | O7: END
O8: END
B9: ="SUMMARY TRADE AND FINANCIAL DATA: "&YearForCollection -> SUMMARY TRADE AND FINANCIAL DATA: 2025 | O9: END
D10: Year: | E10: =YearForCollection -> 2025 | F10: =YearForCollection -> 2025 | G10: =YearForCollection -> 2025 | H10: =YearForCollection -> 2025 | I10: =YearForCollection -> 2025 | J10: =YearForCollection -> 2025 | K10: =YearForCollection -> 2025 | L10: =YearForCollection -> 2025 | ... N10: =YearForCollection -> 2025 | O10: END
D11: All firms | E11: Firm 1 | F11: Firm 2 | G11: Firm 3 | H11: Firm 4 | I11: Firm 5 | J11: Firm 6 | K11: Firm 7 | L11: Firm 8 | M11: Firm 9 | N11: Firm 10 | O11: END
A12: Question | B12: Data element | C12: Unit of measure | D12: Summation | E12: =LEFT($C$54,12) -> 0 | F12: =LEFT($C$55,12) -> 0 | G12: =LEFT($C$56,12) -> 0 | H12: =LEFT($C$57,12) -> 0 | I12: =LEFT($C$58,12) -> 0 | J12: =LEFT($C$59,12) -> 0 | K12: =LEFT($C$60,12) -> 0 | L12: =LEFT($C$61,12) -> 0 | M12: =LEFT($C$62,12) -> 0 | N12: =LEFT($C$63,12) -> 0 | O12: END
O13: END
A14: 9b | B14: Capacity quantity | C14: =QuantitiesIn -> short tons | D14: =SUM(E14:N14) -> 0 | E14: 0 | F14: 0 | G14: 0 | H14: 0 | I14: 0 | J14: 0 | K14: 0 | L14: 0 | M14: 0 | N14: 0 | O14: END
A15: 9a | B15: Production quantity | C15: =QuantitiesIn -> short tons | D15: =SUM(E15:N15) -> 0 | E15: 0 | F15: 0 | G15: 0 | H15: 0 | I15: 0 | J15: 0 | K15: 0 | L15: 0 | M15: 0 | N15: 0 | O15: END
A16: 9c | B16: Commercial U.S. shipments quantity | C16: =QuantitiesIn -> short tons | D16: =SUM(E16:N16) -> 0 | E16: 0 | F16: 0 | G16: 0 | H16: 0 | I16: 0 | J16: 0 | K16: 0 | L16: 0 | M16: 0 | N16: 0 | O16: END
A17: 9c | B17: Commercial U.S. shipments value | C17: =ValuesIn -> dollars | D17: =SUM(E17:N17) -> 0 | E17: 0 | F17: 0 | G17: 0 | H17: 0 | I17: 0 | J17: 0 | K17: 0 | L17: 0 | M17: 0 | N17: 0 | O17: END
A18: 9d | B18: IC/TR in the US quantity | C18: =QuantitiesIn -> short tons | D18: =SUM(E18:N18) -> 0 | E18: 0 | F18: 0 | G18: 0 | H18: 0 | I18: 0 | J18: 0 | K18: 0 | L18: 0 | M18: 0 | N18: 0 | O18: END
A19: 9d | B19: IC/TR in the US value | C19: =ValuesIn -> dollars | D19: =SUM(E19:N19) -> 0 | E19: 0 | F19: 0 | G19: 0 | H19: 0 | I19: 0 | J19: 0 | K19: 0 | L19: 0 | M19: 0 | N19: 0 | O19: END
A20: 9a | B20: Estimated share of total U.S. production | C20: Percent | E20: 0 | F20: 0 | G20: 0 | H20: 0 | I20: 0 | J20: 0 | K20: 0 | L20: 0 | M20: 0 | N20: 0 | O20: END
B21: =CONCATENATE("Flag: ",B20) -> Flag: Estimated share of total U.S. production | E21: =IF(E15>0,IF(E20>0,"","Missing"),"") | F21: =IF(F15>0,IF(F20>0,"","Missing"),"") | G21: =IF(G15>0,IF(G20>0,"","Missing"),"") | H21: =IF(H15>0,IF(H20>0,"","Missing"),"") | I21: =IF(I15>0,IF(I20>0,"","Missing"),"") | J21: =IF(J15>0,IF(J20>0,"","Missing"),"") | K21: =IF(K15>0,IF(K20>0,"","Missing"),"") | L21: =IF(L15>0,IF(L20>0,"","Missing"),"") | ... N21: =IF(N15>0,IF(N20>0,"","Missing"),"") | O21: END
O22: END
B23: IC/TR = Internal consumption or transfers to related firms | D23: Year: | E23: =YearForCollection -> 2025 | F23: =YearForCollection -> 2025 | G23: =YearForCollection -> 2025 | H23: =YearForCollection -> 2025 | I23: =YearForCollection -> 2025 | J23: =YearForCollection -> 2025 | K23: =YearForCollection -> 2025 | L23: =YearForCollection -> 2025 | ... N23: =YearForCollection -> 2025 | O23: END
O24: END
B25: Capacity utilization ratio | C25: Percent | D25: =IF(D26=0,IF(AND(D15=0,D14=0),0,D15/D14*100),"Error") -> 0 | E25: =IF(E26=0,IF(AND(E15=0,E14=0),0,E15/E14*100),"Error") -> 0 | F25: =IF(F26=0,IF(AND(F15=0,F14=0),0,F15/F14*100),"Error") -> 0 | G25: =IF(G26=0,IF(AND(G15=0,G14=0),0,G15/G14*100),"Error") -> 0 | H25: =IF(H26=0,IF(AND(H15=0,H14=0),0,H15/H14*100),"Error") -> 0 | I25: =IF(I26=0,IF(AND(I15=0,I14=0),0,I15/I14*100),"Error") -> 0 | J25: =IF(J26=0,IF(AND(J15=0,J14=0),0,J15/J14*100),"Error") -> 0 | K25: =IF(K26=0,IF(AND(K15=0,K14=0),0,K15/K14*100),"Error") -> 0 | ... N25: =IF(N26=0,IF(AND(N15=0,N14=0),0,N15/N14*100),"Error") -> 0 | O25: END
B26: =CONCATENATE("Flag: ",B25) -> Flag: Capacity utilization ratio | C26: Count | D26: =IF(SUM(E26:N26)>0,1,0) -> 0 | E26: =IF(AND(E15=0,E14=0),0,IF(AND(E14=0,E15>0),1,IF((E15/E14-1)>=0.05,1,0))) -> 0 | F26: =IF(AND(F15=0,F14=0),0,IF(AND(F14=0,F15>0),1,IF((F15/F14-1)>=0.05,1,0))) -> 0 | G26: =IF(AND(G15=0,G14=0),0,IF(AND(G14=0,G15>0),1,IF((G15/G14-1)>=0.05,1,0))) -> 0 | H26: =IF(AND(H15=0,H14=0),0,IF(AND(H14=0,H15>0),1,IF((H15/H14-1)>=0.05,1,0))) -> 0 | I26: =IF(AND(I15=0,I14=0),0,IF(AND(I14=0,I15>0),1,IF((I15/I14-1)>=0.05,1,0))) -> 0 | J26: =IF(AND(J15=0,J14=0),0,IF(AND(J14=0,J15>0),1,IF((J15/J14-1)>=0.05,1,0))) -> 0 | K26: =IF(AND(K15=0,K14=0),0,IF(AND(K14=0,K15>0),1,IF((K15/K14-1)>=0.05,1,0))) -> 0 | L26: =IF(AND(L15=0,L14=0),0,IF(AND(L14=0,L15>0),1,IF((L15/L14-1)>=0.05,1,0))) -> 0 | ... N26: =IF(AND(N15=0,N14=0),0,IF(AND(N14=0,N15>0),1,IF((N15/N14-1)>=0.05,1,0))) -> 0 | O26: END
B27: Commercial sales unit value | C27: =AUVsIn -> dollars per short ton | D27: =IF(AND(D16=0,D17=0),0,IF(D28<1,(D17*AUVMultiple)/D16,"Missing data")) -> 0 | E27: =IF(AND(E16=0,E17=0),0,IF(E28<1,(E17*AUVMultiple)/E16,"Missing data")) -> 0 | F27: =IF(AND(F16=0,F17=0),0,IF(F28<1,(F17*AUVMultiple)/F16,"Missing data")) -> 0 | G27: =IF(AND(G16=0,G17=0),0,IF(G28<1,(G17*AUVMultiple)/G16,"Missing data")) -> 0 | H27: =IF(AND(H16=0,H17=0),0,IF(H28<1,(H17*AUVMultiple)/H16,"Missing data")) -> 0 | I27: =IF(AND(I16=0,I17=0),0,IF(I28<1,(I17*AUVMultiple)/I16,"Missing data")) -> 0 | J27: =IF(AND(J16=0,J17=0),0,IF(J28<1,(J17*AUVMultiple)/J16,"Missing data")) -> 0 | K27: =IF(AND(K16=0,K17=0),0,IF(K28<1,(K17*AUVMultiple)/K16,"Missing data")) -> 0 | ... N27: =IF(AND(N16=0,N17=0),0,IF(N28<1,(N17*AUVMultiple)/N16,"Missing data")) -> 0 | O27: END
B28: =CONCATENATE("Flag: ",B27) -> Flag: Commercial sales unit value | C28: Count | D28: =IF(SUM(E28:N28)>0,1,0) -> 0 | E28: =IF(AND(E16=0,E17=0),0,IF(AND(E16<>0,E17<>0),0,1)) -> 0 | F28: =IF(AND(F16=0,F17=0),0,IF(AND(F16<>0,F17<>0),0,1)) -> 0 | G28: =IF(AND(G16=0,G17=0),0,IF(AND(G16<>0,G17<>0),0,1)) -> 0 | H28: =IF(AND(H16=0,H17=0),0,IF(AND(H16<>0,H17<>0),0,1)) -> 0 | I28: =IF(AND(I16=0,I17=0),0,IF(AND(I16<>0,I17<>0),0,1)) -> 0 | J28: =IF(AND(J16=0,J17=0),0,IF(AND(J16<>0,J17<>0),0,1)) -> 0 | K28: =IF(AND(K16=0,K17=0),0,IF(AND(K16<>0,K17<>0),0,1)) -> 0 | L28: =IF(AND(L16=0,L17=0),0,IF(AND(L16<>0,L17<>0),0,1)) -> 0 | ... N28: =IF(AND(N16=0,N17=0),0,IF(AND(N16<>0,N17<>0),0,1)) -> 0 | O28: END
B29: IC/TR in the US unit value | C29: =AUVsIn -> dollars per short ton | D29: =IF(AND(D18=0,D19=0),0,IF(D30<1,(D19*AUVMultiple)/D18,"Missing data")) -> 0 | E29: =IF(AND(E18=0,E19=0),0,IF(E30<1,(E19*AUVMultiple)/E18,"Missing data")) -> 0 | F29: =IF(AND(F18=0,F19=0),0,IF(F30<1,(F19*AUVMultiple)/F18,"Missing data")) -> 0 | G29: =IF(AND(G18=0,G19=0),0,IF(G30<1,(G19*AUVMultiple)/G18,"Missing data")) -> 0 | H29: =IF(AND(H18=0,H19=0),0,IF(H30<1,(H19*AUVMultiple)/H18,"Missing data")) -> 0 | I29: =IF(AND(I18=0,I19=0),0,IF(I30<1,(I19*AUVMultiple)/I18,"Missing data")) -> 0 | J29: =IF(AND(J18=0,J19=0),0,IF(J30<1,(J19*AUVMultiple)/J18,"Missing data")) -> 0 | K29: =IF(AND(K18=0,K19=0),0,IF(K30<1,(K19*AUVMultiple)/K18,"Missing data")) -> 0 | ... N29: =IF(AND(N18=0,N19=0),0,IF(N30<1,(N19*AUVMultiple)/N18,"Missing data")) -> 0 | O29: END
B30: =CONCATENATE("Flag: ",B29) -> Flag: IC/TR in the US unit value | C30: Count | D30: =IF(SUM(E30:N30)>0,1,0) -> 0 | E30: =IF(AND(E18=0,E19=0),0,IF(AND(E18<>0,E19<>0),0,1)) -> 0 | F30: =IF(AND(F18=0,F19=0),0,IF(AND(F18<>0,F19<>0),0,1)) -> 0 | G30: =IF(AND(G18=0,G19=0),0,IF(AND(G18<>0,G19<>0),0,1)) -> 0 | H30: =IF(AND(H18=0,H19=0),0,IF(AND(H18<>0,H19<>0),0,1)) -> 0 | I30: =IF(AND(I18=0,I19=0),0,IF(AND(I18<>0,I19<>0),0,1)) -> 0 | J30: =IF(AND(J18=0,J19=0),0,IF(AND(J18<>0,J19<>0),0,1)) -> 0 | K30: =IF(AND(K18=0,K19=0),0,IF(AND(K18<>0,K19<>0),0,1)) -> 0 | L30: =IF(AND(L18=0,L19=0),0,IF(AND(L18<>0,L19<>0),0,1)) -> 0 | ... N30: =IF(AND(N18=0,N19=0),0,IF(AND(N18<>0,N19<>0),0,1)) -> 0 | O30: END
B31: US shipments quantity | C31: =QuantitiesIn -> short tons | D31: =D16+D18 -> 0 | E31: =E16+E18 -> 0 | F31: =F16+F18 -> 0 | G31: =G16+G18 -> 0 | H31: =H16+H18 -> 0 | I31: =I16+I18 -> 0 | J31: =J16+J18 -> 0 | K31: =K16+K18 -> 0 | ... N31: =N16+N18 -> 0 | O31: END
B32: US shipments value | C32: =ValuesIn -> dollars | D32: =D17+D19 -> 0 | E32: =E17+E19 -> 0 | F32: =F17+F19 -> 0 | G32: =G17+G19 -> 0 | H32: =H17+H19 -> 0 | I32: =I17+I19 -> 0 | J32: =J17+J19 -> 0 | K32: =K17+K19 -> 0 | ... N32: =N17+N19 -> 0 | O32: END
B33: US shipments unit value | C33: =AUVsIn -> dollars per short ton | D33: =IF(AND(D31=0,D32=0),0,IF(D34<1,(D32*AUVMultiple)/D31,"Missing data")) -> 0 | E33: =IF(AND(E31=0,E32=0),0,IF(E34<1,(E32*AUVMultiple)/E31,"Missing data")) -> 0 | F33: =IF(AND(F31=0,F32=0),0,IF(F34<1,(F32*AUVMultiple)/F31,"Missing data")) -> 0 | G33: =IF(AND(G31=0,G32=0),0,IF(G34<1,(G32*AUVMultiple)/G31,"Missing data")) -> 0 | H33: =IF(AND(H31=0,H32=0),0,IF(H34<1,(H32*AUVMultiple)/H31,"Missing data")) -> 0 | I33: =IF(AND(I31=0,I32=0),0,IF(I34<1,(I32*AUVMultiple)/I31,"Missing data")) -> 0 | J33: =IF(AND(J31=0,J32=0),0,IF(J34<1,(J32*AUVMultiple)/J31,"Missing data")) -> 0 | K33: =IF(AND(K31=0,K32=0),0,IF(K34<1,(K32*AUVMultiple)/K31,"Missing data")) -> 0 | ... N33: =IF(AND(N31=0,N32=0),0,IF(N34<1,(N32*AUVMultiple)/N31,"Missing data")) -> 0 | O33: END
B34: =CONCATENATE("Flag: ",B33) -> Flag: US shipments unit value | C34: Count | D34: =IF(SUM(E34:N34)>0,1,0) -> 0 | E34: =IF((E28+E30)>0,1,0) -> 0 | F34: =IF((F28+F30)>0,1,0) -> 0 | G34: =IF((G28+G30)>0,1,0) -> 0 | H34: =IF((H28+H30)>0,1,0) -> 0 | I34: =IF((I28+I30)>0,1,0) -> 0 | J34: =IF((J28+J30)>0,1,0) -> 0 | K34: =IF((K28+K30)>0,1,0) -> 0 | L34: =IF((L28+L30)>0,1,0) -> 0 | ... N34: =IF((N28+N30)>0,1,0) -> 0 | O34: END
O35: END
D36: Year: | E36: =YearForCollection -> 2025 | F36: =YearForCollection -> 2025 | G36: =YearForCollection -> 2025 | H36: =YearForCollection -> 2025 | I36: =YearForCollection -> 2025 | J36: =YearForCollection -> 2025 | K36: =YearForCollection -> 2025 | L36: =YearForCollection -> 2025 | ... N36: =YearForCollection -> 2025 | O36: END
D37: All firms | E37: Firm 1 | F37: Firm 2 | G37: Firm 3 | H37: Firm 4 | I37: Firm 5 | J37: Firm 6 | K37: Firm 7 | L37: Firm 8 | M37: Firm 9 | N37: Firm 10 | O37: END
A38: Question | B38: Data element | C38: Unit of measure | D38: Summation | E38: =LEFT($C$54,15) -> 0 | F38: =LEFT($C$55,15) -> 0 | G38: =LEFT($C$56,15) -> 0 | H38: =LEFT($C$57,15) -> 0 | I38: =LEFT($C$58,15) -> 0 | J38: =LEFT($C$59,15) -> 0 | K38: =LEFT($C$60,15) -> 0 | L38: =LEFT($C$61,15) -> 0 | M38: =LEFT($C$62,15) -> 0 | N38: =LEFT($C$63,15) -> 0 | O38: END
O39: END
B40: Identify the date on which your fiscal year ends | C40: MM/DD/YYYY | D40: NA | E40: 1 | F40: 1 | G40: 1 | H40: 1 | I40: 1 | J40: 1 | K40: 1 | L40: 1 | M40: 1 | N40: 1 | O40: END
...

Sheet MX#10,11
A1: START | B1: START | C1: START | D1: START | E1: START | F1: START | G1: START | H1: START | I1: START | J1: START | K1: START | L1: START | M1: START | N1: START | O1: END
B2: U.S. importers/Foreign producers'/Foreign exporters' data for a response to a Commission Notice of Institution relating to: | O2: END
B3: =InvestigationTitle&"; Inv No(s).: "&InvestigationNumber&" ("&InvestigationPhase&")" -> Standard Steel Welded Wire Mesh from Mexico; Inv No(s).: 701-TA-653 and 731-TA-1527 (Review) | O3: END
B4: ="U.S. importers, Foreign Producers/Exporters: "&CountryName -> U.S. importers, Foreign Producers/Exporters: Mexico | O4: END
B5: ="Data submitted by "&Name_Counsel&"; on behalf of interested party: "&Name_InterestedParty -> Data submitted by ; on behalf of interested party: | O5: END
O6: END
E7: Confidential version: Contains business proprietary information | O7: END
O8: END
O9: END
B10: Subject country: | C10: Mexico | O10: END
B11: Iso alpha two digit country code: | C11: =VLOOKUP(CountryName,CountryTable,2,FALSE) -> MX | O11: END
O12: END
B13: Firm type | C13: Firm name | D13: Firms names shown below will be input by your firm on the "#1,2,3" tab | O13: END
O14: END
B15: Interested party / firm 1 | C15: ='#1,2,3'!B39 -> 0 | O15: END
B16: Interested party / firm 2 | C16: ='#1,2,3'!B83 -> 0 | O16: END
B17: Interested party / firm 3 | C17: ='#1,2,3'!B128 -> 0 | O17: END
B18: Interested party / firm 4 | C18: ='#1,2,3'!B172 -> 0 | O18: END
B19: Interested party / firm 5 | C19: ='#1,2,3'!B217 -> 0 | O19: END
B20: Interested party / firm 6 | C20: ='#1,2,3'!B262 -> 0 | O20: END
B21: Interested party / firm 7 | C21: ='#1,2,3'!B307 -> 0 | O21: END
B22: Interested party / firm 8 | C22: ='#1,2,3'!B352 -> 0 | O22: END
B23: Interested party / firm 9 | C23: ='#1,2,3'!B396 -> 0 | O23: END
B24: Interested party / firm 10 | C24: ='#1,2,3'!B440 -> 0 | O24: END
O25: END
O26: END
B27: U.S. IMPORTERS DATA: | O27: END
B28: Note: foreign producer/exporter data are below this section. | O28: END
D29: Year: | E29: =YearForCollection -> 2025 | F29: =YearForCollection -> 2025 | G29: =YearForCollection -> 2025 | H29: =YearForCollection -> 2025 | I29: =YearForCollection -> 2025 | J29: =YearForCollection -> 2025 | K29: =YearForCollection -> 2025 | L29: =YearForCollection -> 2025 | ... N29: =YearForCollection -> 2025 | O29: END
D30: All firms | E30: Firm 1 | F30: Firm 2 | G30: Firm 3 | H30: Firm 4 | I30: Firm 5 | J30: Firm 6 | K30: Firm 7 | L30: Firm 8 | M30: Firm 9 | N30: Firm 10 | O30: END
A31: Question | B31: Data element | C31: Unit of measure | D31: Summation | E31: =LEFT($C$15,15) -> 0 | F31: =LEFT($C$16,15) -> 0 | G31: =LEFT($C$17,15) -> 0 | H31: =LEFT($C$18,15) -> 0 | I31: =LEFT($C$19,15) -> 0 | J31: =LEFT($C$20,15) -> 0 | K31: =LEFT($C$21,15) -> 0 | L31: =LEFT($C$22,15) -> 0 | M31: =LEFT($C$23,15) -> 0 | N31: =LEFT($C$24,15) -> 0 | O31: END
O32: END
A33: 10a | B33: =IsoCountryCode&": "&P33 -> MX: U.S. imports quantity | C33: =QuantitiesIn -> short tons | D33: =SUM(E33:N33) -> 0 | E33: 0 | F33: 0 | G33: 0 | H33: 0 | I33: 0 | J33: 0 | K33: 0 | L33: 0 | M33: 0 | N33: 0 | O33: END | P33: U.S. imports quantity
A34: 10a | B34: =IsoCountryCode&": "&P34 -> MX: U.S. imports value | C34: =ValuesIn -> dollars | D34: =SUM(E34:N34) -> 0 | E34: 0 | F34: 0 | G34: 0 | H34: 0 | I34: 0 | J34: 0 | K34: 0 | L34: 0 | M34: 0 | N34: 0 | O34: END | P34: U.S. imports value
A35: 10b | B35: =IsoCountryCode&": "&P35 -> MX: Commercial U.S. shipments quantity | C35: =QuantitiesIn -> short tons | D35: =SUM(E35:N35) -> 0 | E35: 0 | F35: 0 | G35: 0 | H35: 0 | I35: 0 | J35: 0 | K35: 0 | L35: 0 | M35: 0 | N35: 0 | O35: END | P35: Commercial U.S. shipments quantity
A36: 10b | B36: =IsoCountryCode&": "&P36 -> MX: Commercial U.S. shipments value | C36: =ValuesIn -> dollars | D36: =SUM(E36:N36) -> 0 | E36: 0 | F36: 0 | G36: 0 | H36: 0 | I36: 0 | J36: 0 | K36: 0 | L36: 0 | M36: 0 | N36: 0 | O36: END | P36: Commercial U.S. shipments value
A37: 10c | B37: =IsoCountryCode&": "&P37 -> MX: IC/TR in the U.S. quantity | C37: =QuantitiesIn -> short tons | D37: =SUM(E37:N37) -> 0 | E37: 0 | F37: 0 | G37: 0 | H37: 0 | I37: 0 | J37: 0 | K37: 0 | L37: 0 | M37: 0 | N37: 0 | O37: END | P37: IC/TR in the U.S. quantity
A38: 10c | B38: =IsoCountryCode&": "&P38 -> MX: IC/TR in the U.S. value | C38: =ValuesIn -> dollars | D38: =SUM(E38:N38) -> 0 | E38: 0 | F38: 0 | G38: 0 | H38: 0 | I38: 0 | J38: 0 | K38: 0 | L38: 0 | M38: 0 | N38: 0 | O38: END | P38: IC/TR in the U.S. value
A39: 10a | B39: =IsoCountryCode&": "&P39 -> MX: Estimated share of total U.S. imports | C39: Percent | E39: 0 | F39: 0 | G39: 0 | H39: 0 | I39: 0 | J39: 0 | K39: 0 | L39: 0 | M39: 0 | N39: 0 | O39: END | P39: Estimated share of total U.S. imports
O40: END
...
